BEGIN:VCALENDAR
VERSION:2.0
PRODID:-//Ibis Charities Foundation - ECPv6.15.18//NONSGML v1.0//EN
CALSCALE:GREGORIAN
METHOD:PUBLISH
X-WR-CALNAME:Ibis Charities Foundation
X-ORIGINAL-URL:https://ibischaritiesfoundation.org
X-WR-CALDESC:Events for Ibis Charities Foundation
REFRESH-INTERVAL;VALUE=DURATION:PT1H
X-Robots-Tag:noindex
X-PUBLISHED-TTL:PT1H
BEGIN:VTIMEZONE
TZID:UTC
BEGIN:STANDARD
TZOFFSETFROM:+0000
TZOFFSETTO:+0000
TZNAME:UTC
DTSTART:20260101T000000
END:STANDARD
END:VTIMEZONE
BEGIN:VEVENT
DTSTART;TZID=UTC:20270125T080000
DTEND;TZID=UTC:20270125T170000
DTSTAMP:20260425T121614
CREATED:20260425T110542Z
LAST-MODIFIED:20260425T110542Z
UID:381-1800864000-1800896400@ibischaritiesfoundation.org
SUMMARY:Test Event 2
DESCRIPTION:This is another test event
URL:https://ibischaritiesfoundation.org/event/test-event-2/
LOCATION:The Club at Ibis
END:VEVENT
BEGIN:VEVENT
DTSTART;TZID=UTC:20270214T080000
DTEND;TZID=UTC:20270214T170000
DTSTAMP:20260425T121614
CREATED:20260422T223545Z
LAST-MODIFIED:20260425T110736Z
UID:356-1802592000-1802624400@ibischaritiesfoundation.org
SUMMARY:Test Event
DESCRIPTION:Here is a test event.
URL:https://ibischaritiesfoundation.org/event/test-event/
LOCATION:The Club at Ibis
END:VEVENT
END:VCALENDAR